BEGIN:VCALENDAR
VERSION:2.0
PRODID:-//Squarespace Inc/Squarespace 6//v6//EN
BEGIN:VEVENT
UID:5ebd88e6bcb5ac291d71e961@squarespace.com
DTSTAMP:20200519T220259Z
DTSTART:20200520T000000Z
DTEND:20200520T010000Z
SUMMARY:Virtual Roundtable hosted by: Steve Bundy and Ed Cushman
END:VEVENT
END:VCALENDAR
