BEGIN:VCALENDAR
VERSION:2.0
PRODID:-//Squarespace Inc/Squarespace 6//v6//EN
BEGIN:VEVENT
UID:5ebd8ecddeedfd0942d16e73@squarespace.com
DTSTAMP:20200519T220409Z
DTSTART:20200527T220000Z
DTEND:20200527T230000Z
SUMMARY:Virtual Roundtable hosted by: Mindy Berman &amp\; Dan Solomon\, Ell
 ie Solomon\; Andrea &amp\; Niels Steenstrup
END:VEVENT
END:VCALENDAR
