BEGIN:VCALENDAR
VERSION:2.0
PRODID:-//Squarespace Inc/Squarespace 6//v6//EN
BEGIN:VEVENT
UID:5ebd9304c948f2507a46fed9@squarespace.com
DTSTAMP:20200519T220558Z
DTSTART:20200604T123000Z
DTEND:20200604T133000Z
SUMMARY:Virtual Roundtable hosted by: Michael Price
END:VEVENT
END:VCALENDAR
