BEGIN:VCALENDAR
VERSION:2.0
PRODID:-//Squarespace Inc/Squarespace 6//v6//EN
BEGIN:VEVENT
UID:5ed2b3d2939ba41cd14d0afa@squarespace.com
DTSTAMP:20200601T010249Z
DTSTART:20200617T220000Z
DTEND:20200617T230000Z
SUMMARY:Virtual Roundtable hosted by: Luba and Robin Greenwood
END:VEVENT
END:VCALENDAR
