BEGIN:VCALENDAR
VERSION:2.0
PRODID:-//Squarespace Inc/Squarespace 6//v6//EN
BEGIN:VEVENT
UID:5ebd9105deedfd0942d1e03f@squarespace.com
DTSTAMP:20200519T220434Z
DTSTART:20200527T230000Z
DTEND:20200528T000000Z
SUMMARY:Virtual Roundtable hosted by: Gloria &amp\; Lee Gavris\, and Valeri
 e &amp\; Jeff Pontiff
END:VEVENT
END:VCALENDAR
