BEGIN:VCALENDAR
VERSION:2.0
PRODID:-//Squarespace Inc/Squarespace 6//v6//EN
BEGIN:VEVENT
UID:5ebd9177904f6177ca32aed5@squarespace.com
DTSTAMP:20200519T220456Z
DTSTART:20200528T210000Z
DTEND:20200528T220000Z
SUMMARY:Virtual Roundtable hosted by: David Ball
END:VEVENT
END:VCALENDAR
