BEGIN:VCALENDAR
VERSION:2.0
PRODID:-//Squarespace Inc/Squarespace 6//v6//EN
BEGIN:VEVENT
UID:5ed2b30148814c0a32643515@squarespace.com
DTSTAMP:20200601T010253Z
DTSTART:20200625T223000Z
DTEND:20200625T233000Z
SUMMARY:Virtual Roundtable hosted by: Cindy and Bob Laughrea
END:VEVENT
END:VCALENDAR
