BEGIN:VCALENDAR
VERSION:2.0
PRODID:-//Squarespace Inc/Squarespace 6//v6//EN
BEGIN:VEVENT
UID:5ef25c414f2b763ab19df604@squarespace.com
DTSTAMP:20200623T194806Z
DTSTART:20200701T210000Z
DTEND:20200701T220000Z
SUMMARY:Virtual Meet &amp\; Greet
END:VEVENT
END:VCALENDAR
