BEGIN:VCALENDAR
VERSION:2.0
PRODID:-//Squarespace Inc/Squarespace 6//v6//EN
BEGIN:VEVENT
UID:5ebd91e133ce8b5075ae84af@squarespace.com
DTSTAMP:20200519T220541Z
DTSTART:20200602T233000Z
DTEND:20200603T003000Z
SUMMARY:Virtual Roundtable: Felicia &amp\; Evan Falchuk and Stacy &amp\; Ca
 rl Schwartz
END:VEVENT
END:VCALENDAR
