BEGIN:VCALENDAR
VERSION:2.0
PRODID:-//Squarespace Inc/Squarespace 6//v6//EN
BEGIN:VEVENT
UID:5ed2b1607f741f7a2f1f8bd0@squarespace.com
DTSTAMP:20200601T010244Z
DTSTART:20200616T230000Z
DTEND:20200617T000000Z
SUMMARY:Virtual Roundtable hosted by: Deb Hicks
END:VEVENT
END:VCALENDAR
