BEGIN:VCALENDAR
VERSION:2.0
PRODID:-//Squarespace Inc/Squarespace 6//v6//EN
BEGIN:VEVENT
UID:5ed2b4b23a6bea33d5c9ba6e@squarespace.com
DTSTAMP:20200601T010231Z
DTSTART:20200604T233000Z
DTEND:20200605T003000Z
SUMMARY:Virtual Newton Meet &amp\; Greet
END:VEVENT
END:VCALENDAR
