BEGIN:VCALENDAR
VERSION:2.0
PRODID:-//Squarespace Inc/Squarespace 6//v6//EN
BEGIN:VEVENT
UID:5ed2b6052c0f245a2e40ba49@squarespace.com
DTSTAMP:20200601T010239Z
DTSTART:20200609T220000Z
DTEND:20200609T230000Z
SUMMARY:Virtual Newton Meet &amp\; Greet
END:VEVENT
END:VCALENDAR
