BEGIN:VCALENDAR
VERSION:2.0
PRODID:-//Squarespace Inc/Squarespace 6//v6//EN
BEGIN:VEVENT
UID:5ed2b59ff426f87f6317af8b@squarespace.com
DTSTAMP:20200601T010235Z
DTSTART:20200609T123000Z
DTEND:20200609T133000Z
SUMMARY:Virtual Newton Meet &amp\; Greet
END:VEVENT
END:VCALENDAR
