BEGIN:VCALENDAR
VERSION:2.0
PRODID:-//Squarespace Inc/Squarespace 6//v6//EN
BEGIN:VEVENT
UID:5f204dc72a4c152b7ded079f@squarespace.com
DTSTAMP:20200807T135746Z
DTSTART:20200810T230000Z
DTEND:20200811T000000Z
SUMMARY:Virtual Meet &amp\; Greet
END:VEVENT
END:VCALENDAR
