BEGIN:VCALENDAR
VERSION:2.0
PRODID:-//Squarespace Inc/Squarespace 6//v6//EN
BEGIN:VEVENT
UID:5eb9404279d8322ad16344d7@squarespace.com
DTSTAMP:20200511T202544Z
DTSTART:20200514T160000Z
DTEND:20200514T170000Z
SUMMARY:Sandra and Dan O'Neill
END:VEVENT
END:VCALENDAR
