BEGIN:VCALENDAR
VERSION:2.0
PRODID:-//Squarespace Inc/Squarespace 6//v6//EN
BEGIN:VEVENT
UID:5ebd85a441902d25b3c204c3@squarespace.com
DTSTAMP:20200518T120220Z
DTSTART:20200519T230000Z
DTEND:20200520T000000Z
SUMMARY:Virtual Roundtable hosted by: Rachel &amp\; William Foster\, Lisa C
 oll\, Wendy Falchuk
END:VEVENT
END:VCALENDAR
