BEGIN:VCALENDAR
VERSION:2.0
PRODID:-//Squarespace Inc/Squarespace 6//v6//EN
BEGIN:VEVENT
UID:5eb93ff23c500172943b1ca4@squarespace.com
DTSTAMP:20200511T201415Z
DTSTART:20200513T160000Z
DTEND:20200513T170000Z
SUMMARY:Virtual Roundtable hosted by Victor Colantonio
END:VEVENT
END:VCALENDAR
